BEGIN:VCALENDAR
VERSION:2.0
PRODID:-//ChamberMaster//Event Calendar 2.0//EN
METHOD:PUBLISH
X-PUBLISHED-TTL:P3D
REFRESH-INTERVAL:P3D
CALSCALE:GREGORIAN
BEGIN:VEVENT
DTSTART;VALUE=DATE:20260619
DTEND;VALUE=DATE:20260620
TRANSP:TRANSPARENT
X-MICROSOFT-CDO-ALLDAYEVENT:TRUE
SUMMARY:Driving Fore Dutton Golf Outing
DESCRIPTION:Dutton Farm is looking for sponsorships for their annual Driving Fore Dutton Golf Outing.  The outing will take place on Tuesday\, June 9th at both Westwynd Golf Course and Wyndgate Country Club.  All sponsors will have the opportunity to play on the private course as part of their sponsorship this year.  Please contact Kim Staudacher at kim@duttonfarm.org for more details.  "Grip it\, rip it and give back to a great cause!"
X-ALT-DESC;FMTTYPE=text/html:Dutton Farm is looking for sponsorships for their annual <strong>Driving Fore Dutton Golf Outing</strong>.&nbsp\; The outing will take place on Tuesday\, June 9th at both Westwynd Golf Course and Wyndgate Country Club.&nbsp\; All sponsors will have the opportunity to play on the private course as part of their sponsorship this year.&nbsp\; Please contact Kim Staudacher at kim@duttonfarm.org for more details.&nbsp\; <strong>&quot\;Grip it\, rip it and give back to a great cause!&quot\;&nbsp\;&nbsp\;</strong>
LOCATION:Westwynd Golf Course 4161 Adams Rd Oakland Twp and Wyndgate Country Club 1975 W. Gunn Rd. Rochester Hills
UID:e.1562.50797
SEQUENCE:3
DTSTAMP:20260423T151338Z
URL:http://business.rrc-mi.com/events/details/driving-fore-dutton-golf-outing-06-19-2026-50797
END:VEVENT

END:VCALENDAR
