BEGIN:VCALENDAR
VERSION:2.0
PRODID:-//ChamberMaster//Event Calendar 2.0//EN
METHOD:PUBLISH
X-PUBLISHED-TTL:P3D
REFRESH-INTERVAL:P3D
CALSCALE:GREGORIAN
BEGIN:VEVENT
DTSTART:20260508T183000Z
DTEND:20260508T203000Z
X-MICROSOFT-CDO-ALLDAYEVENT:FALSE
SUMMARY:Spring is in the Air ~ Petting Zoo
DESCRIPTION:Spring is in the Air\n\nPetting Zoo\n\n\n\nMay 8th\n\nPlease RSVP by May 3rd
X-ALT-DESC;FMTTYPE=text/html:<div style="text-align:center"><span style="font-size:20px">Spring is in the Air</span><br />\n<span style="font-size:14px"><span style="font-size:16px">Petting Zoo</span></span><br />\n<br />\nMay 8th<br />\nPlease RSVP by May 3rd</div>\n
LOCATION:Grace Senior Living 2791 Walton Blvd Rochester
UID:e.1562.60745
SEQUENCE:3
DTSTAMP:20260423T152913Z
URL:http://business.rrc-mi.com/events/details/spring-is-in-the-air-petting-zoo-60745
END:VEVENT

END:VCALENDAR
