BEGIN:VCALENDAR
VERSION:2.0
PRODID:-//ChamberMaster//Event Calendar 2.0//EN
METHOD:PUBLISH
X-PUBLISHED-TTL:P3D
REFRESH-INTERVAL:P3D
CALSCALE:GREGORIAN
BEGIN:VEVENT
DTSTART:20260604T150000Z
DTEND:20260604T183000Z
X-MICROSOFT-CDO-ALLDAYEVENT:FALSE
SUMMARY:Ask a Doctor or Pharmacist 2026
DESCRIPTION:Free blood pressure checks and various health screenings.\n\nOne-on-one conversations with medical doctors to address general health questions and concerns. No-cost\, no appointment needed.\n\nAsk a Pharmacist about free health risk screenings\, medication review and counseling including over-the-counter meds\, patient education and prescription disposal.
X-ALT-DESC;FMTTYPE=text/html:<p>Free blood pressure checks and various health screenings.</p>\n\n<p>One-on-one conversations with medical doctors to address general health questions and concerns. No-cost\, no appointment needed.</p>\n\n<p>Ask a Pharmacist about free health risk screenings\, medication review and counseling including over-the-counter meds\, patient education and prescription disposal.</p>\n
LOCATION:Neighborhood House Food Pantry 1315 N. Pine Street Rochester\, MI 48307
UID:e.1562.60753
SEQUENCE:3
DTSTAMP:20260423T212621Z
URL:https://business.rrc-mi.com/events/details/ask-a-doctor-or-pharmacist-2026-06-04-2026-60753
END:VEVENT

END:VCALENDAR
