BEGIN:VCALENDAR
VERSION:2.0
PRODID:-//ChamberMaster//Event Calendar 2.0//EN
METHOD:PUBLISH
X-PUBLISHED-TTL:P3D
REFRESH-INTERVAL:P3D
CALSCALE:GREGORIAN
BEGIN:VEVENT
DTSTART:20260310T160000Z
DTEND:20260310T220000Z
X-MICROSOFT-CDO-ALLDAYEVENT:FALSE
SUMMARY:Blood Drive at First Congregational Church
DESCRIPTION:First Congregational Church is hosting a blood drive for the American Red Cross on Tuesday\, March 10\, from 12:00 to 6:00 p.m.\n\n\n\nTo schedule an appointment\, please call 1-800-RED-CROSS (1-800-733-2767) or visit RedCrossBlood.org (sponsor code: firstcon).
X-ALT-DESC;FMTTYPE=text/html:<span style="font-size:18px"><span style="font-family:tahoma"><strong>First Congregational Church is hosting a blood drive for the American Red Cross on Tuesday\, March 10\, from 12:00 to 6:00 p.m.<br />\n<br />\nTo schedule an appointment\, please call 1-800-RED-CROSS (1-800-733-2767) or visit&nbsp\;<a href="https://www.redcrossblood.org/">RedCrossBlood.org</a>&nbsp\;(sponsor code: firstcon).</strong></span></span>
LOCATION:First Congregational Church 1315 N. Pine Street Rochester\, MI 48307
UID:e.1562.50780
SEQUENCE:3
DTSTAMP:20260419T180516Z
URL:https://business.rrc-mi.com/events/details/blood-drive-at-first-congregational-church-03-10-2026-50780
END:VEVENT

END:VCALENDAR
