BEGIN:VCALENDAR
VERSION:2.0
PRODID:-//ChamberMaster//Event Calendar 2.0//EN
METHOD:PUBLISH
X-PUBLISHED-TTL:P3D
REFRESH-INTERVAL:P3D
CALSCALE:GREGORIAN
BEGIN:VEVENT
DTSTART:20260520T223000Z
DTEND:20260521T000000Z
X-MICROSOFT-CDO-ALLDAYEVENT:FALSE
SUMMARY:Cemetery Tour: A Tribute to Our Soldiers
DESCRIPTION:Mt. Avon Cemetery features soldiers and families from the Revolutionary\, Toledo\, Civil\, and World Wars that defended our country and community. Celebrate our Memorial Day weekend with this patriotic tour.
X-ALT-DESC;FMTTYPE=text/html:<p class="x_MsoNormal" style="margin: 0in\; text-align: justify\; line-height: 16.05px\;"><span style="font-size:18px\;"><span style="font-family:tahoma\;"><span class="x_gmail-agcmg" style="border: 0px\; font-style: inherit\; font-variant: inherit\; font-weight: inherit\; font-stretch: inherit\; line-height: inherit\; font-optical-sizing: inherit\; font-size-adjust: inherit\; font-kerning: inherit\; font-feature-settings: inherit\; font-variation-settings: inherit\; font-language-override: inherit\; margin: 0px\; padding: 0px\; vertical-align: baseline\; color: inherit\;"><span style="border: 0px\; font-style: inherit\; font-variant: inherit\; font-weight: inherit\; font-stretch: inherit\; line-height: 16.05px\; font-optical-sizing: inherit\; font-size-adjust: inherit\; font-kerning: inherit\; font-feature-settings: inherit\; font-variation-settings: inherit\; font-language-override: inherit\; margin: 0px\; padding: 0px\; vertical-align: baseline\; color: inherit\;"><font data-olk-copy-source="MessageBody">Mt. Avon Cemetery features soldiers and families from the Revolutionary\, Toledo\, Civil\, and World Wars that defended our country and community. Celebrate our Memorial Day weekend with this patriotic tour.</font></span></span></span></span></p>\n\n<p class="x_MsoNormal" style="margin: 0in\; text-align: justify\; line-height: 15.6933px\; font-size: 11pt\; font-family: Calibri\, sans-serif\;">&nbsp\;</p>\n\n<div>&nbsp\;</div>\n
LOCATION:
UID:e.1562.51907
SEQUENCE:3
DTSTAMP:20260420T123447Z
URL:https://business.rrc-mi.com/events/details/cemetery-tour-a-tribute-to-our-soldiers-51907
END:VEVENT

END:VCALENDAR
