BEGIN:VCALENDAR
VERSION:2.0
PRODID:-//ChamberMaster//Event Calendar 2.0//EN
METHOD:PUBLISH
X-PUBLISHED-TTL:P3D
REFRESH-INTERVAL:P3D
CALSCALE:GREGORIAN
BEGIN:VEVENT
DTSTART:20260507T220000Z
DTEND:20260508T000000Z
X-MICROSOFT-CDO-ALLDAYEVENT:FALSE
SUMMARY:Create your own pizza!
DESCRIPTION:We'll go over the basics of making dough from scratch\, molding it into the perfect shape and decorating with a variety of toppings!\n\n \n\n\n\n\nCreate your own pizza! We'll go over the basics of making a delicious dough from scratch\, molding it into the perfect shape and decorating with a variety of toppings! You're sure to impress when you make homemade pizza for everyone!\n\nImportant! No cancellations once registered\; Wear comfortable closed toe shoes.\n\nQuestions? Email info@theflavorlab.kitchen
X-ALT-DESC;FMTTYPE=text/html:<div><span style="font-size:18px\;"><span style="font-family:tahoma\;">We&#39\;ll go over the basics of making dough from scratch\, molding it into the perfect shape and decorating with a variety of toppings!</span></span><br />\n&nbsp\;</div>\n\n<div>\n<div>\n<div>\n<p><span style="font-size:18px\;"><span style="font-family:tahoma\;">Create your own pizza! We&#39\;ll go over the basics of making a delicious dough from scratch\, molding it into the perfect shape and decorating with a variety of toppings! You&#39\;re sure to impress when you make homemade pizza for everyone!</span></span></p>\n\n<p><span style="font-size:18px\;"><span style="font-family:tahoma\;">Important! No cancellations once registered\; Wear comfortable closed toe shoes.</span></span></p>\n\n<p><span style="font-size:18px\;"><span style="font-family:tahoma\;">Questions? Email <strong><a href="mailto:info@theflavorlab.kitchen"><span style="color:#0000FF\;">info@theflavorlab.kitchen</span></a></strong></span></span></p>\n</div>\n</div>\n</div>\n
LOCATION:812 N Main St\, Rochester MI
UID:e.1562.51935
SEQUENCE:3
DTSTAMP:20260420T122031Z
URL:https://business.rrc-mi.com/events/details/create-your-own-pizza-05-07-2026-51935
END:VEVENT

END:VCALENDAR
