BEGIN:VCALENDAR
VERSION:2.0
PRODID:-//ChamberMaster//Event Calendar 2.0//EN
METHOD:PUBLISH
X-PUBLISHED-TTL:P3D
REFRESH-INTERVAL:P3D
CALSCALE:GREGORIAN
BEGIN:VEVENT
DTSTART:20260502T140000Z
DTEND:20260502T180000Z
X-MICROSOFT-CDO-ALLDAYEVENT:FALSE
SUMMARY:Easterseals MORC Autism Comprehensive Care Center Open House
DESCRIPTION:Join us on Saturday\, May 2nd at the new Autism Comprehensive Center in Waterford from 10:00 am - 2:00 pm!\n\nMeet the team\, tour the new building and be sure to check out the All-Abilities Artisan market!\n\n \n\nWe will also be conducting on-site job interviews! We?re looking for individuals who are passionate about helping children with autism thrive! Join a supportive team that?s dedicated to growth?both yours and the children?s!\n\nInterviews will be conducted for positions on our Autism Service team\, including Behavior Technicians.\n\n \n\nQuestions about the open house? Interested in being a vendor at the All-Abilities Artisan Market? Contact Kristen Hjelmstad at khjelmstad@eastersealsmorc.org\n\nQuestions about the on-site job interviews? Contact Morgan Bass at mbass@eastersealsmorc.org
X-ALT-DESC;FMTTYPE=text/html:<div><span style="font-size:18px\;"><span style="font-family:tahoma\;">Join us on Saturday\, May 2nd at the new Autism Comprehensive Center in Waterford from 10:00 am - 2:00 pm!</span></span></div>\n\n<div><span style="font-size:18px\;"><span style="font-family:tahoma\;">Meet the team\, tour the new building and be sure to check out the All-Abilities Artisan market!</span></span></div>\n\n<div>&nbsp\;</div>\n\n<div><span style="font-size:18px\;"><span style="font-family:tahoma\;">We will also be conducting on-site job interviews! We?re looking for individuals who are passionate about helping children with autism thrive! Join a supportive team that?s dedicated to growth?both yours and the children?s!</span></span></div>\n\n<div><span style="font-size:18px\;"><span style="font-family:tahoma\;">Interviews will be conducted for positions on our Autism Service team\, including Behavior Technicians.</span></span></div>\n\n<div>&nbsp\;</div>\n\n<div><span style="font-size:18px\;"><span style="font-family:tahoma\;">Questions about the open house? Interested in being a vendor at the All-Abilities Artisan Market? Contact Kristen Hjelmstad at&nbsp\;<a class="x_OWAAutoLink" href="mailto:khjelmstad@eastersealsmorc.org" id="OWA2c41930e-1dd7-ede8-f7c4-906c59488f1f" style="border: 0px\; font: inherit\; margin: 0px\; padding: 0px\; vertical-align: baseline\;" title="mailto:khjelmstad@eastersealsmorc.org"><span style="color:#0000CD\;">khjelmstad@eastersealsmorc.org</span></a></span></span></div>\n\n<div><span style="font-size:18px\;"><span style="font-family:tahoma\;">Questions about the on-site job interviews? Contact Morgan Bass at&nbsp\;<a class="x_OWAAutoLink" href="mailto:mbass@eastersealsmorc.org" id="OWAb3106380-408d-6d12-f3cc-5f641063f5b1" style="border: 0px\; font: inherit\; margin: 0px\; padding: 0px\; vertical-align: baseline\;" title="mailto:mbass@eastersealsmorc.org"><span style="color:#0000CD\;">mbass@eastersealsmorc.org</span></a><a class="x_OWAAutoLink" href="mailto:mbass@eastersealsmorc.org" id="OWAbda81355-6c75-569f-1f5e-9b43e752f159" style="border: 0px\; font: inherit\; margin: 0px\; padding: 0px\; vertical-align: baseline\; text-decoration-line: none\;" title="mailto:mbass@eastersealsmorc.org"><span style="color:#0000CD\;">&nbsp\;</span></a></span></span><br />\n<br />\n&nbsp\;</div>\n
LOCATION:Easterseals MORC Autism Comprehensive Care Center 955 Campus Dr. N Waterford\, MI 48328
UID:e.1562.51895
SEQUENCE:3
DTSTAMP:20260420T122606Z
URL:https://business.rrc-mi.com/events/details/easterseals-morc-autism-comprehensive-care-center-open-house-51895
END:VEVENT

END:VCALENDAR
