BEGIN:VCALENDAR
VERSION:2.0
PRODID:-//ChamberMaster//Event Calendar 2.0//EN
METHOD:PUBLISH
X-PUBLISHED-TTL:P3D
REFRESH-INTERVAL:P3D
CALSCALE:GREGORIAN
BEGIN:VEVENT
DTSTART:20260515T230000Z
DTEND:20260516T003000Z
X-MICROSOFT-CDO-ALLDAYEVENT:FALSE
SUMMARY:Harmony in the Hills Presents City Lights Chorus
DESCRIPTION:Harmony In The Hills Presents City Lights Chorus\n\nSt. Paul's United Methodist Church's Harmony in the Hills Concert Series will present City Lights Chorus. St. Paul's United Methodist Church is located at 620 Romeo Rd\, Rochester\, Ml.
X-ALT-DESC;FMTTYPE=text/html:<p><strong><span style="font-size:18px\;"><span style="font-family:tahoma\;">Harmony In The Hills Presents City Lights Chorus</span></span></strong></p>\n\n<p><span style="font-size:18px\;"><span style="font-family:tahoma\;">St. Paul&#39\;s United Methodist Church&#39\;s Harmony in the Hills Concert Series will present City Lights Chorus</span></span><span style="font-family: tahoma\; font-size: 18px\;">. St. Paul&#39\;s United Methodist Church is located at&nbsp\;</span><span style="font-size:18px\;"><span style="font-family:tahoma\;">620 Romeo Rd\, Rochester\, Ml.&nbsp\;</span></span><br />\n&nbsp\;</p>\n
LOCATION:St. Paul's United Methodist Church 620 Romeo Street Rochester\, Michigan 48307
UID:e.1562.51911
SEQUENCE:3
DTSTAMP:20260420T123216Z
URL:https://business.rrc-mi.com/events/details/harmony-in-the-hills-presents-city-lights-chorus-51911
END:VEVENT

END:VCALENDAR
