BEGIN:VCALENDAR
VERSION:2.0
PRODID:-//ChamberMaster//Event Calendar 2.0//EN
METHOD:PUBLISH
X-PUBLISHED-TTL:P3D
REFRESH-INTERVAL:P3D
CALSCALE:GREGORIAN
BEGIN:VEVENT
DTSTART:20260603T140000Z
DTEND:20260603T150000Z
X-MICROSOFT-CDO-ALLDAYEVENT:FALSE
SUMMARY:Healthy Hikes 2026 - June 3 - Tooth Care
DESCRIPTION:Join us for a brief health lecture presented by doctors from the Wayne State University Family Medicine Residency followed by a nature hike with Rochester naturalists through the Henry Ford boardwalk.  Topics and target audiences vary each month. \n\n\n\n6/3/26 - Youth focus - Dr. Kyle Kluck will guide your little ones towards taking care of their teeth
X-ALT-DESC;FMTTYPE=text/html:Join us for a brief health lecture presented by doctors from the Wayne State University Family Medicine Residency followed by a nature hike with Rochester naturalists through the Henry Ford boardwalk.&nbsp\; Topics and target audiences vary each month.&nbsp\;<br />\n<br />\n6/3/26 - Youth focus - Dr. Kyle Kluck will guide your little ones towards taking care of their teeth&nbsp\;
LOCATION:Innovation Hills Park (Meet under pavilion) 2800 W Hamlin Road Rochester\, MI 48309
UID:e.1562.60747
SEQUENCE:3
DTSTAMP:20260423T215614Z
URL:https://business.rrc-mi.com/events/details/healthy-hikes-2026-june-3-tooth-care-60747
END:VEVENT

END:VCALENDAR
