BEGIN:VCALENDAR
VERSION:2.0
PRODID:-//ChamberMaster//Event Calendar 2.0//EN
METHOD:PUBLISH
X-PUBLISHED-TTL:P3D
REFRESH-INTERVAL:P3D
CALSCALE:GREGORIAN
BEGIN:VEVENT
DTSTART:20260506T140000Z
DTEND:20260506T150000Z
X-MICROSOFT-CDO-ALLDAYEVENT:FALSE
SUMMARY:Healthy Hikes 2026 - May 6 - Fad Diets
DESCRIPTION:Join us for a brief health lecture presented by doctors from the Wayne State University Family Medicine Residency followed by a nature hike with Rochester naturalists through the Henry Ford boardwalk.  Topics and target audiences vary each month. \n\n\n\n5/6/26 - Senior focus - Dr. Jamal Hoyte will present on different fad diets and how to tell apart the good\, bad and ugly
X-ALT-DESC;FMTTYPE=text/html:Join us for a brief health lecture presented by doctors from the Wayne State University Family Medicine Residency followed by a nature hike with Rochester naturalists through the Henry Ford boardwalk.&nbsp\; Topics and target audiences vary each month.&nbsp\;<br />\n<br />\n5/6/26 - Senior focus - Dr. Jamal Hoyte will present on different fad diets and how to tell apart the good\, bad and ugly&nbsp\;
LOCATION:Innovation Hills Park (Meet under pavilion) 2800 W Hamlin Road Rochester\, MI 48309
UID:e.1562.60746
SEQUENCE:3
DTSTAMP:20260423T213252Z
URL:https://business.rrc-mi.com/events/details/healthy-hikes-2026-may-6-fad-diets-60746
END:VEVENT

END:VCALENDAR
