BEGIN:VCALENDAR
VERSION:2.0
PRODID:-//ChamberMaster//Event Calendar 2.0//EN
METHOD:PUBLISH
X-PUBLISHED-TTL:P3D
REFRESH-INTERVAL:P3D
CALSCALE:GREGORIAN
BEGIN:VEVENT
DTSTART:20260505T220000Z
DTEND:20260506T000000Z
X-MICROSOFT-CDO-ALLDAYEVENT:FALSE
SUMMARY:Henry Ford Health - Family and Friends CPR
DESCRIPTION:This course is designed to teach lay-rescuers. The program teaches how to perform CPR on adults\, children\, and infants and how to help an adult\, child or infant who is choking. It is designed for family members such as new parents\, grandparents\, young babysitters\, and generally those persons who want to learn CPR that is not needed for employment. Participants must be at least 11 years old. Children 11-16 must be accompanies by an adult. This class is not a certification class\, however a certificate of attendance is available upon request. \n\n\n\nTo register\, visit https://www.henryford.com/calendar/managing-health/friends-and-family-cpr-rochester.
X-ALT-DESC;FMTTYPE=text/html:<span style="font-size:18px\;"><span style="font-family:tahoma\;">This course is designed to teach lay-rescuers. The program teaches how to perform CPR on adults\, children\, and infants and how to help an adult\, child or infant who is choking. It is designed for family members such as new parents\, grandparents\, young babysitters\, and generally those persons who want to learn CPR that is not needed for employment. Participants must be at least 11 years old. Children 11-16 must be accompanies by an adult. This class is not a certification class\, however a certificate of attendance is available upon request.&nbsp\;<br />\n<br />\nTo register\, visit&nbsp\;<span style="color:#0000CD\;">https://www.henryford.com/calendar/managing-health/friends-and-family-cpr-rochester.</span></span></span>
LOCATION:Class will be held at Henry Ford Rochester Hospital (1101 W. University Drive\, Rochester\, MI 48307) in Classroom 2B on the second floor. Free parking is available in the lot by the hospital main entrance.
UID:e.1562.51919
SEQUENCE:3
DTSTAMP:20260420T123633Z
URL:https://business.rrc-mi.com/events/details/henry-ford-health-family-and-friends-cpr-05-05-2026-51919
END:VEVENT

END:VCALENDAR
