BEGIN:VCALENDAR
VERSION:2.0
PRODID:-//ChamberMaster//Event Calendar 2.0//EN
METHOD:PUBLISH
X-PUBLISHED-TTL:P3D
REFRESH-INTERVAL:P3D
CALSCALE:GREGORIAN
BEGIN:VEVENT
DTSTART:20260602T130000Z
DTEND:20260602T170000Z
X-MICROSOFT-CDO-ALLDAYEVENT:FALSE
SUMMARY:Henry Ford Health - Healthcare Provider CPR (BLS)
DESCRIPTION:This course is designed for medical and other healthcare professionals including nurses and nursing students\, physicians\, EMS personnel\, dental and other allied health professionals who need certification for regulatory requirement. This class is for both initial and renewal certification. Materials will be provided at the class. \n\n\n\nThis program covers: \n\n	Adult\, child and infant CPR \n	One and two rescuer CPR \n	Foreign body airway obstruction \n	Mouth-to-mask \n	Bag mask \n	Use of an automatic external defibrillator (AED) \n\nWith successful completion of a written test and demonstration of CPR skills\, an American Heart Association completion card is sent by email.\n\n\n\nFor more information and to register\, visit https://www.henryford.com/calendar/event-session-search-results?#eventkeyword=health%20care%20provider%20cpr&eventtype=&event%20location=%7BD9AC6BAE-F57A-4AD0-AB90-645E4FFC0087%7D&datefrom=&dateto=&zip=&e=0
X-ALT-DESC;FMTTYPE=text/html:<span style="font-family:tahoma\;"><span style="font-size:18px\;">This course is designed for medical and other healthcare professionals including nurses and nursing students\, physicians\, EMS personnel\, dental and other allied health professionals who need certification for regulatory requirement. This class is for both initial and renewal certification. Materials will be provided at the class.&nbsp\;<br />\n<br />\nThis program covers:&nbsp\;</span></span>\n<ul>\n	<li><span style="font-family:tahoma\;"><span style="font-size:18px\;">Adult\, child and infant CPR&nbsp\;</span></span></li>\n	<li><span style="font-family:tahoma\;"><span style="font-size:18px\;">One and two rescuer CPR&nbsp\;</span></span></li>\n	<li><span style="font-family:tahoma\;"><span style="font-size:18px\;">Foreign body airway obstruction&nbsp\;</span></span></li>\n	<li><span style="font-family:tahoma\;"><span style="font-size:18px\;">Mouth-to-mask&nbsp\;</span></span></li>\n	<li><span style="font-family:tahoma\;"><span style="font-size:18px\;">Bag mask&nbsp\;</span></span></li>\n	<li><span style="font-family:tahoma\;"><span style="font-size:18px\;">Use of an automatic external defibrillator (AED)&nbsp\;</span></span></li>\n</ul>\n<span style="font-family:tahoma\;"><span style="font-size:18px\;">With successful completion of a written test and demonstration of CPR skills\, an American Heart Association completion card is sent by email.<br />\n<br />\nFor more information and to register\, visit<a href="https://www.henryford.com/calendar/event-session-search-results?#eventkeyword=health%20care%20provider%20cpr&amp\;eventtype=&amp\;event%20location=%7BD9AC6BAE-F57A-4AD0-AB90-645E4FFC0087%7D&amp\;datefrom=&amp\;dateto=&amp\;zip=&amp\;e=0">&nbsp\;</a><a href="https://www.henryford.com/calendar/event-session-search-results?#eventkeyword=health%20care%20provider%20cpr&amp\;eventtype=&amp\;event%20location=%7BD9AC6BAE-F57A-4AD0-AB90-645E4FFC0087%7D&amp\;datefrom=&amp\;dateto=&amp\;zip=&amp\;e=0"><span style="color:#0000CD\;">https://www.henryford.com/calendar/event-session-search-results?#eventkeyword=health%20care%20provider%20cpr&amp\;eventtype=&amp\;event%20location=%7BD9AC6BAE-F57A-4AD0-AB90-645E4FFC0087%7D&amp\;datefrom=&amp\;dateto=&amp\;zip=&amp\;e=0</span></a></span></span>
LOCATION:Class will be held at Henry Ford Rochester Hospital (1101 W. University Dr.\, Rochester\, MI 48307) in Classroom 2B on the second floor. Free parking is available in the lot by the hospital main entrance.
UID:e.1562.51929
SEQUENCE:3
DTSTAMP:20260420T123551Z
URL:https://business.rrc-mi.com/events/details/henry-ford-health-healthcare-provider-cpr-bls-51929
END:VEVENT

END:VCALENDAR
