BEGIN:VCALENDAR
VERSION:2.0
PRODID:-//ChamberMaster//Event Calendar 2.0//EN
METHOD:PUBLISH
X-PUBLISHED-TTL:P3D
REFRESH-INTERVAL:P3D
CALSCALE:GREGORIAN
BEGIN:VEVENT
DTSTART:20260602T170000Z
DTEND:20260602T180000Z
X-MICROSOFT-CDO-ALLDAYEVENT:FALSE
SUMMARY:Henry Ford Health - Heartcode BLS Skills
DESCRIPTION:This skills session will cover the practical component required by the American Heart Association to receive a Healthcare Provider BLS Card. It is designed to meet part two (practice) and part 3 (testing) of the AHA Heartcode BLS on-line program. Students must complete Heartcode Online training prior to attending a skills session (available on shopcpr.heart.org) and will need to present their certificate and will then be tested following the prescribed criteria. Upon successful completion\, students will receive Healthcare Provider BLS card by email. \n\n\n\nTo complete the online portion\, please visit Shop CPR and purchase HeartCode BLS. Registration and payment for the online program is separate from the skills session. \n\n\n\nHenry Ford Associates who choose to take this class will be charged.
X-ALT-DESC;FMTTYPE=text/html:<span style="font-size:18px\;"><span style="font-family:tahoma\;">This skills session will cover the practical component required by the American Heart Association to receive a Healthcare Provider BLS Card. It is designed to meet part two (practice) and part 3 (testing) of the AHA Heartcode BLS on-line program. Students must complete Heartcode Online training prior to attending a skills session (available on shopcpr.heart.org) and will need to present their certificate and will then be tested following the prescribed criteria. Upon successful completion\, students will receive Healthcare Provider BLS card by email.&nbsp\;<br />\n<br />\nTo complete the online portion\, please visit Shop CPR and purchase HeartCode BLS. Registration and payment for the online program is separate from the skills session.&nbsp\;<br />\n<br />\nHenry Ford Associates who choose to take this class will be charged.&nbsp\;</span></span>
LOCATION:
UID:e.1562.51931
SEQUENCE:3
DTSTAMP:20260420T122317Z
URL:https://business.rrc-mi.com/events/details/henry-ford-health-heartcode-bls-skills-51931
END:VEVENT

END:VCALENDAR
