BEGIN:VCALENDAR
VERSION:2.0
PRODID:-//ChamberMaster//Event Calendar 2.0//EN
METHOD:PUBLISH
X-PUBLISHED-TTL:P3D
REFRESH-INTERVAL:P3D
CALSCALE:GREGORIAN
BEGIN:VEVENT
DTSTART:20260506T140000Z
DTEND:20260506T150000Z
X-MICROSOFT-CDO-ALLDAYEVENT:FALSE
SUMMARY:Henry Ford Health Rochester - Healthy Hikes
DESCRIPTION:Join us for a brief health lecture presented by doctors from the Wayne State University Family Medicine Residency. We will then take a nature hike with Rochester naturalists through the Henry Ford boardwalk. Topics and target audiences vary each month.\n\n\n\nOn May 6th\, we will focus on seniors. Dr. Jamal Hoyte will present on different fad diets and how to tell apart the good\, bad and ugly. \n\n\n\nTo view the entire series\, visit here.
X-ALT-DESC;FMTTYPE=text/html:<span style="font-size:18px\;"><span style="font-family:tahoma\;">Join us for a brief health lecture presented by doctors from the Wayne State University Family Medicine Residency. We will then take a nature hike with Rochester naturalists through the Henry Ford boardwalk. Topics and target audiences vary each month.<br />\n<br />\nOn May 6th\, we will focus on seniors. Dr. Jamal Hoyte will present on different fad diets and how to tell apart the good\, bad and ugly.&nbsp\;<br />\n<br />\nTo view the entire series\, visit <a href="https://www.henryford.com/calendar/managing-health/healthy-hikes-2026"><span style="color:#0000CD\;">here</span></a>.&nbsp\;</span></span>
LOCATION:
UID:e.1562.51912
SEQUENCE:3
DTSTAMP:20260420T123418Z
URL:https://business.rrc-mi.com/events/details/henry-ford-health-rochester-healthy-hikes-51912
END:VEVENT

END:VCALENDAR
