BEGIN:VCALENDAR
VERSION:2.0
PRODID:-//ChamberMaster//Event Calendar 2.0//EN
METHOD:PUBLISH
X-PUBLISHED-TTL:P3D
REFRESH-INTERVAL:P3D
CALSCALE:GREGORIAN
BEGIN:VEVENT
DTSTART:20260603T140000Z
DTEND:20260603T150000Z
X-MICROSOFT-CDO-ALLDAYEVENT:FALSE
SUMMARY:Henry Ford Health Rochester - Healthy Hikes
DESCRIPTION:Join us for a brief health lecture presented by doctors from the Wayne State University Family Medicine Residency. We will then take a nature hike with Rochester naturalists through the Henry Ford boardwalk. Topics and target audiences vary each month.\n\n\n\nOn June 3rd\, we will focus on youth health. Dr. Kyle Kluck will guide your little ones towards caring of their teeth. \n\n\n\nView the entire calendar here.
X-ALT-DESC;FMTTYPE=text/html:<span style="font-size:18px\;"><span style="font-family:tahoma\;">Join us for a brief health lecture presented by doctors from the Wayne State University Family Medicine Residency. We will then take a nature hike with Rochester naturalists through the Henry Ford boardwalk. Topics and target audiences vary each month.<br />\n<br />\nOn June 3rd\, we will focus on youth health. Dr. Kyle Kluck will guide your little ones towards caring of their teeth.&nbsp\;<br />\n<br />\nView the entire calendar <a href="https://www.henryford.com/calendar/managing-health/healthy-hikes-2026"><span style="color:#0000CD\;">here</span></a>.&nbsp\;</span></span>
LOCATION:
UID:e.1562.51913
SEQUENCE:3
DTSTAMP:20260420T123522Z
URL:https://business.rrc-mi.com/events/details/henry-ford-health-rochester-healthy-hikes-51913
END:VEVENT

END:VCALENDAR
