BEGIN:VCALENDAR
VERSION:2.0
PRODID:-//ChamberMaster//Event Calendar 2.0//EN
METHOD:PUBLISH
X-PUBLISHED-TTL:P3D
REFRESH-INTERVAL:P3D
CALSCALE:GREGORIAN
BEGIN:VEVENT
DTSTART:20260423T143000Z
DTEND:20260423T170000Z
X-MICROSOFT-CDO-ALLDAYEVENT:FALSE
SUMMARY:Meadow Brook Theater Guild Luncheon on the Aisle!
DESCRIPTION:This fun event benefits Meadow Brook Theater! A boxed lunch is served in the Meadow Brook Theater seats with live scenes from the current play and a talk back with cast members and their behind the scene personal stories. No question is off limits! There is also a raffle and bake sale. Tickets can be purchased at Meadow Brook Theater:\n\n          Individual tickets - $50\n\n          Groups of eight (8) or more - $45\n\nDeadline: April 16\, 2026
X-ALT-DESC;FMTTYPE=text/html:<span style="font-size:18px\;"><span style="font-family:tahoma\;">This fun event benefits Meadow Brook Theater! A boxed lunch is served in the Meadow Brook Theater seats with live scenes from the current play and a talk back with cast members and their behind the scene personal stories. No question is off limits! There is also a raffle and bake sale. Tickets can be purchased at Meadow Brook Theater:<br />\n&nbsp\; &nbsp\; &nbsp\; &nbsp\; &nbsp\; Individual tickets - $50<br />\n&nbsp\; &nbsp\; &nbsp\; &nbsp\; &nbsp\; Groups of eight (8) or more - $45<br />\nDeadline: April 16\, 2026</span></span>
LOCATION:Meadow Brook Theater Box Office\, 207 Wilson Hall (Oakland University Campus)\, Rochester\, MI
UID:e.1562.51823
SEQUENCE:3
DTSTAMP:20260420T124143Z
URL:https://business.rrc-mi.com/events/details/meadow-brook-theater-guild-luncheon-on-the-aisle-51823
END:VEVENT

END:VCALENDAR
