BEGIN:VCALENDAR
VERSION:2.0
PRODID:-//ChamberMaster//Event Calendar 2.0//EN
METHOD:PUBLISH
X-PUBLISHED-TTL:P3D
REFRESH-INTERVAL:P3D
CALSCALE:GREGORIAN
BEGIN:VEVENT
DTSTART:20260528T150000Z
DTEND:20260528T163000Z
X-MICROSOFT-CDO-ALLDAYEVENT:FALSE
SUMMARY:Mental Health Peer Solution Group
DESCRIPTION:Join other Mental Health Professionals of the Rochester Regional Chamber's Mental Health Peer Solution Group. Collaborate\, share resources\, and learn in a supportive and empowering environment. \n\n \nThe purpose of the RRC Peer Solution Groups is to provide a supportive and empowering environment where Chamber members with the same issues or needs can come together to collaborate and learn from each other. Groups are formed based on similar industry\, job responsibility\, need\, or topic. Groups will be self-driven by group members with support from Chamber staff.\n\nPeer Solution Groups* bring together professionals for powerful collaboration and encouragement. These groups meet to share knowledge and collaborate on collectively growing their businesses. The content for each group is driven by members with the assistance of Chamber staff.
X-ALT-DESC;FMTTYPE=text/html:<span style="font-size:20px\;"><span style="font-family:tahoma\;"><span style="background-color: rgb(255\, 255\, 255)\;"><font color="#444444">Join other Mental Health Professionals&nbsp\;</font><font color="#444444">of the Rochester Regional Chamber&#39\;s </font><font color="#444444">Mental Health Peer Solution Group. Collaborate\, share resources\, and learn in a supportive and empowering environment.&nbsp\;</font></span></span></span><br />\n&nbsp\;\n<p style="box-sizing: border-box\; margin: 0px 0px 10px\; font-size: 22px\; color: rgb(85\, 85\, 85)\; font-family: Montserrat\, sans-serif\; background-color: rgb(255\, 255\, 255)\;"><span style="font-size:20px\;"><span style="box-sizing: border-box\;">The purpose of the RRC Peer Solution Groups is to provide a supportive and empowering environment where Chamber members with the same issues or needs can come together to collaborate and learn from each other. Groups are formed based on similar industry\, job responsibility\, need\, or topic. Groups will be self-driven by group members with support from Chamber staff.</span></span></p>\n\n<p style="box-sizing: border-box\; margin: 0px 0px 10px\; font-size: 22px\; color: rgb(85\, 85\, 85)\; font-family: Montserrat\, sans-serif\; background-color: rgb(255\, 255\, 255)\;"><span style="font-size:20px\;"><span style="box-sizing: border-box\;">Peer Solution Groups* bring together professionals for powerful collaboration and encouragement. These groups meet to share knowledge and collaborate on collectively growing their businesses. The content for each group is driven by members with the assistance of Chamber staff.</span></span></p>\n<br />\n&nbsp\;
LOCATION:Mental Balance & Wellness Practice 1130 Tienken Court\, Suite 223 Rochester Hills\, MI 48306
UID:e.1562.51828
SEQUENCE:3
DTSTAMP:20260421T111718Z
URL:https://business.rrc-mi.com/events/details/mental-health-peer-solution-group-51828
END:VEVENT

END:VCALENDAR
