BEGIN:VCALENDAR
VERSION:2.0
PRODID:-//ChamberMaster//Event Calendar 2.0//EN
METHOD:PUBLISH
X-PUBLISHED-TTL:P3D
REFRESH-INTERVAL:P3D
CALSCALE:GREGORIAN
BEGIN:VEVENT
DTSTART:20260510T200000Z
DTEND:20260510T220000Z
X-MICROSOFT-CDO-ALLDAYEVENT:FALSE
SUMMARY:Mochi Magic & Boba Bliss
DESCRIPTION:Get ready for a sweet\, chewy adventure! In this hands-on class\, you'll learn to make delicious mochi and popping boba from scratch. From squishy\, soft mochi to perfectly popping boba pearls\, we'll guide you through every step. Whether you're a first-timer or a pro\, you'll leave with the skills to create these fun\, flavor-packed treats at home. Grab your spot and let's make some bubbles and bites!\n\nLearn some science while also making some fun\, delicious treats! Each student will make their own Boba and Mochi.\n\nRecipe Book Included.\n\nImportant! No cancellations once registered\; Wear comfortable closed toe shoes\; Age 6-11 requires parent participation.\n\nQuestions? Email info@theflavorlab.kitchen
X-ALT-DESC;FMTTYPE=text/html:<p><br />\n<span style="font-size:18px"><span style="font-family:tahoma">Get ready for a sweet\, chewy adventure! In this hands-on class\, you&rsquo\;ll learn to make delicious mochi and popping boba from scratch. From squishy\, soft mochi to perfectly popping boba pearls\, we&rsquo\;ll guide you through every step. Whether you&#39\;re a first-timer or a pro\, you&rsquo\;ll leave with the skills to create these fun\, flavor-packed treats at home. Grab your spot and let&rsquo\;s make some bubbles and bites!</span></span></p>\n\n<p><span style="font-size:18px"><span style="font-family:tahoma">Learn some science while also making some fun\, delicious treats! Each student will make their own Boba and Mochi.</span></span></p>\n\n<p><span style="font-size:18px"><span style="font-family:tahoma">Recipe Book Included.</span></span></p>\n\n<p><span style="font-size:18px"><span style="font-family:tahoma">Important! No cancellations once registered\; Wear comfortable closed toe shoes\; Age 6-11 requires parent participation.</span></span></p>\n\n<p><span style="font-size:18px"><span style="font-family:tahoma">Questions? Email <strong><a href="mailto:info@theflavorlab.kitchen"><span style="color:#0000FF">info@theflavorlab.kitchen</span></a><span style="color:#0000FF">&nbsp\;</span></strong></span></span></p>\n
LOCATION:Classes will be held at The Flavor Lab 812 N. Main St. Rochester\, MI 48307
UID:e.1562.51936
SEQUENCE:3
DTSTAMP:20260420T123045Z
URL:https://business.rrc-mi.com/events/details/mochi-magic-boba-bliss-05-10-2026-51936
END:VEVENT

END:VCALENDAR
