BEGIN:VCALENDAR
VERSION:2.0
PRODID:-//ChamberMaster//Event Calendar 2.0//EN
METHOD:PUBLISH
X-PUBLISHED-TTL:P3D
REFRESH-INTERVAL:P3D
CALSCALE:GREGORIAN
BEGIN:VEVENT
DTSTART:20260509T133000Z
DTEND:20260509T143000Z
X-MICROSOFT-CDO-ALLDAYEVENT:FALSE
SUMMARY:Museum at the Market! Downtown Walking Tour
DESCRIPTION:Join Museum staff at the Rochester Farmer's Market! Buy some fresh food and then hit the streets to learn some fascinating facts to share at dinner with family and friends. Where is the oldest building on Main Street? Where were the first hotels? Where was the first house built? When did the telephone come to town? Where were all the churches? On this tour we'll explore our downtown exhibit signs and sift through historical photos and stories while walking about a half mile. No registration required.\n\n\n\nMeet at the Rochester Farmer's Market\, Information Tent
X-ALT-DESC;FMTTYPE=text/html:<span style="font-size:18px\;"><span style="font-family:tahoma\;"><span data-olk-copy-source="MessageBody">Join Museum staff at the Rochester Farmer&rsquo\;s Market! Buy some fresh food and then hit the streets to learn some fascinating facts to share at dinner with family and friends. Where is the oldest building on Main Street? Where were the first hotels? Where was the first house built? When did the telephone come to town? Where were all the churches? On this tour we&rsquo\;ll explore our downtown exhibit signs and sift through historical photos and stories while walking about a half mile. No registration required.<br />\n<br />\nMeet at the Rochester Farmer&#39\;s Market\, Information Tent</span></span></span>
LOCATION:
UID:e.1562.51901
SEQUENCE:3
DTSTAMP:20260420T123231Z
URL:https://business.rrc-mi.com/events/details/museum-at-the-market-downtown-walking-tour-51901
END:VEVENT

END:VCALENDAR
