BEGIN:VCALENDAR
VERSION:2.0
PRODID:-//ChamberMaster//Event Calendar 2.0//EN
METHOD:PUBLISH
X-PUBLISHED-TTL:P3D
REFRESH-INTERVAL:P3D
CALSCALE:GREGORIAN
BEGIN:VEVENT
DTSTART;VALUE=DATE:20260426
DTEND;VALUE=DATE:20260427
TRANSP:TRANSPARENT
X-MICROSOFT-CDO-ALLDAYEVENT:TRUE
SUMMARY:Oakland Youth Orchestras 2026-27 Season Auditions
DESCRIPTION:Auditions for Oakland Youth Orchestras' (OYO) 52nd season will be held this spring on weekends in early May 2026 at Oakland University. Online scheduling is available now at oyomi.org/join-oyo/auditions/.\n\n\n\nFor over 50 years\, OYO has provided students of all ages with an inspiring music education and exploration in a supportive environment. OYO's four orchestras offer enriching experiences for those just beginning their musical journey and those intent on pursuing a career in music.\n\n	Studio String: Advanced Beginner\; Strings (violin\, viola\, cello\, bass)\; Generally\, grades 2-7\n	String: Intermediate\; Strings (violin\, viola\, cello\, bass)\; Generally\, grades 3-9\n	Philharmonia: Advanced Intermediate\; Strings\, Woodwinds\, Brass\, Percussion\; Generally\, grades 6-12\n	Symphony: Advanced\; Strings\, Woodwinds\, Brass\, Percussion\; High school musicians\n\n In addition to an enriching orchestra experience\, students have the opportunity to participate in a number of additional activities\, developing a breadth to their musical journey.\n\n\n	Chamber Ensembles: Students play in small groups\, developing independence\, confidence and teamwork. Open to all students in all orchestras.\n	Community Outreach: Students are offered further performance opportunities as soloists or small ensembles throughout the area.\n	Solo and Concerto Competition: Students have the opportunity to compete each spring for prizes and the honor of performing for audiences in the following season.\n	Merit Scholarships: Up to 12 students receive awards each season to be applied toward their music education - i.e. lessons\, instrument upgrades\, music camps\, etc.\n\n Once auditions are completed\, students are place in the orchestra in which they can be both successful and challenged. For more information\, visit oyomi.org.
X-ALT-DESC;FMTTYPE=text/html:<span style="font-size:18px\;"><span style="font-family:tahoma\;"><strong>Auditions </strong>for Oakland Youth Orchestras&#39\; (OYO) 52nd season will be held this spring on weekends in early May 2026 at Oakland University. <strong>Online scheduling</strong> is available now at <a href="http://oyomi.org/join-oyo/auditions/."><span style="color:#0000FF\;">oyomi.org/join-oyo/auditions/</span></a><a href="http://oyomi.org/join-oyo/auditions/."><span style="color:#0000FF\;">.</span></a><br />\n<br />\n<strong>For over 50 years</strong>\, OYO has provided students of all ages with an inspiring music education and exploration in a supportive environment. <strong>OYO&#39\;s four orchestras</strong> offer enriching experiences for those just beginning their musical journey and those intent on pursuing a career in music.</span></span>\n<ul>\n	<li><span style="font-size:18px\;"><span style="font-family:tahoma\;"><strong><em>Studio String</em></strong>: Advanced Beginner\; Strings (violin\, viola\, cello\, bass)\; Generally\, grades 2-7</span></span></li>\n	<li><span style="font-size:18px\;"><span style="font-family:tahoma\;"><strong><em>String</em></strong>: Intermediate\; Strings (violin\, viola\, cello\, bass)\; Generally\, grades 3-9</span></span></li>\n	<li><span style="font-size:18px\;"><span style="font-family:tahoma\;"><strong><em>Philharmonia</em></strong>: Advanced Intermediate\; Strings\, Woodwinds\, Brass\, Percussion\; Generally\, grades 6-12</span></span></li>\n	<li><span style="font-size:18px\;"><span style="font-family:tahoma\;"><strong><em>Symphony</em></strong>: Advanced\; Strings\, Woodwinds\, Brass\, Percussion\; High school musicians</span></span></li>\n</ul>\n<span style="font-size:18px\;"><span style="font-family:tahoma\;"> In addition to an enriching orchestra experience\, students have the opportunity to participate in a number of additional activities\, developing a breadth to their musical journey.</span></span>\n\n<ul>\n	<li><span style="font-size:18px\;"><span style="font-family:tahoma\;"><strong><em>Chamber Ensembles</em></strong>: Students play in small groups\, developing independence\, confidence and teamwork. Open to all students in all orchestras.</span></span></li>\n	<li><span style="font-size:18px\;"><span style="font-family:tahoma\;"><strong><em>Community Outreach</em></strong>: Students are offered further performance opportunities as soloists or small ensembles throughout the area.</span></span></li>\n	<li><span style="font-size:18px\;"><span style="font-family:tahoma\;"><strong><em>Solo and Concerto Competition</em></strong>: Students have the opportunity to compete each spring for prizes and the honor of performing for audiences in the following season.</span></span></li>\n	<li><span style="font-size:18px\;"><span style="font-family:tahoma\;"><strong><em>Merit Scholarships</em></strong>: Up to 12 students receive awards each season to be applied toward their music education - i.e. lessons\, instrument upgrades\, music camps\, etc.</span></span></li>\n</ul>\n<span style="font-size:18px\;"><span style="font-family:tahoma\;"> Once auditions are completed\, students are place in the orchestra in which they can be both successful and challenged. For more information\, visit <a href="http://oyomi.org"><span style="color:#0000FF\;">oyomi.org</span></a>.</span></span>
LOCATION:Auditions are held at Oakland University.
UID:e.1562.51943
SEQUENCE:3
DTSTAMP:20260423T165944Z
URL:https://business.rrc-mi.com/events/details/oakland-youth-orchestras-2026-27-season-auditions-51943
END:VEVENT

END:VCALENDAR
