BEGIN:VCALENDAR
VERSION:2.0
PRODID:-//ChamberMaster//Event Calendar 2.0//EN
METHOD:PUBLISH
X-PUBLISHED-TTL:P3D
REFRESH-INTERVAL:P3D
CALSCALE:GREGORIAN
BEGIN:VEVENT
DTSTART:20260430T223000Z
DTEND:20260501T013000Z
X-MICROSOFT-CDO-ALLDAYEVENT:FALSE
SUMMARY:Oakland Youth Orchestras Spring Concert
DESCRIPTION:Oakland Youth Orchestras (OYO) proudly presents its Spring Concert\, the final concert of OYO's 51st season. This culminating performance features all four OYO ensembles and reflects the artistic growth\, dedication\, and musical excellence fostered throughout the season.\n\nThe program opens with the Studio String Orchestra\, offering a varied selection that includes scenes from Tchaikovsky's Swan Lake\, In Paradisum from Faur 's Requiem in D Minor\, and music from The Incredibles 2. The String Orchestra follows with an expressive and stylistically diverse program featuring Soon Hee Newbold's The Iliad\, Elgar's Nimrod variation\, Copland's Hoedown\, and Blaze of Metal by Bryan Sanguinito.\n\nThe Philharmonia Orchestra highlights the vitality of the Big Band tradition with selections such as Tico-Tico\, Irving Fine's Blue Towers\, classic Big Band arrangements by Calvin Custer\, and a medley of works by Duke Ellington. The evening concludes with the Symphony Orchestra\, presenting a vibrant program that includes Gershwin's Cuban Overture\, selections from Bizet's Carmen Suites\, and Chabrier's Espa a.\n\nTogether\, these performances showcase a broad spectrum of orchestral repertoire and underscore OYO's commitment to musical education\, artistic excellence\, and community enrichment.\n\nOakland Youth Orchestras (OYO) presents its Spring Concert on Thursday\, April 30\, 2026\, at 6:30pm at Bloomfield Hills High School.\n\nAll concerts are open to the general public. Tickets are available for purchase at the door.\n\n$15 Adults\, $5 Students
X-ALT-DESC;FMTTYPE=text/html:<p><span style="font-size:18px\;"><span style="font-family:tahoma\;"><strong>Oakland Youth Orchestras (OYO)</strong>&nbsp\;proudly presents its&nbsp\;<strong>Spring Concert</strong>\, the&nbsp\;<strong>final concert of OYO&rsquo\;s 51st season</strong>. This culminating performance features all four OYO ensembles and reflects the artistic growth\, dedication\, and musical excellence fostered throughout the season.</span></span></p>\n\n<p><span style="font-size:18px\;"><span style="font-family:tahoma\;">The program opens with the&nbsp\;<strong>Studio String Orchestra</strong>\, offering a varied selection that includes scenes from Tchaikovsky&rsquo\;s&nbsp\;<em>Swan Lake</em>\,&nbsp\;<em>In Paradisum</em>&nbsp\;from Faur&eacute\;&rsquo\;s&nbsp\;<em>Requiem in D Minor</em>\, and music from&nbsp\;<em>The Incredibles 2</em>. The&nbsp\;<strong>String Orchestra</strong>&nbsp\;follows with an expressive and stylistically diverse program featuring Soon Hee Newbold&rsquo\;s&nbsp\;<em>The Iliad</em>\, Elgar&rsquo\;s&nbsp\;<em>Nimrod</em>&nbsp\;variation\, Copland&rsquo\;s&nbsp\;<em>Hoedown</em>\, and&nbsp\;<em>Blaze of Metal</em>&nbsp\;by Bryan Sanguinito.</span></span></p>\n\n<p><span style="font-size:18px\;"><span style="font-family:tahoma\;">The&nbsp\;<strong>Philharmonia Orchestra</strong>&nbsp\;highlights the vitality of the Big Band tradition with selections such as&nbsp\;<em>Tico-Tico</em>\, Irving Fine&rsquo\;s&nbsp\;<em>Blue Towers</em>\, classic Big Band arrangements by Calvin Custer\, and a medley of works by Duke Ellington. The evening concludes with the&nbsp\;<strong>Symphony Orchestra</strong>\, presenting a vibrant program that includes Gershwin&rsquo\;s&nbsp\;<em>Cuban Overture</em>\, selections from Bizet&rsquo\;s&nbsp\;<em>Carmen Suites</em>\, and Chabrier&rsquo\;s&nbsp\;<em>Espa&ntilde\;a</em>.</span></span></p>\n\n<p><span style="font-size:18px\;"><span style="font-family:tahoma\;">Together\, these performances showcase a broad spectrum of orchestral repertoire and underscore OYO&rsquo\;s commitment to musical education\, artistic excellence\, and community enrichment.</span></span></p>\n\n<p><span style="font-size:18px\;"><span style="font-family:tahoma\;">Oakland Youth Orchestras (OYO) presents its Spring Concert on Thursday\, April 30\, 2026\, at 6:30pm at&nbsp\;<a href="https://maps.app.goo.gl/Qnb3N6rGWU8J7KrF8" style="box-sizing: border-box\; background: transparent\; color: rgb(138\, 141\, 9)\;"><span style="color:#0000FF\;">Bloomfield Hills High School</span></a>.</span></span></p>\n\n<p><span style="font-size:18px\;"><span style="font-family:tahoma\;">All concerts are open to the general public. Tickets are available for purchase at the door.<br />\n<em>$15 Adults\, $5 Students</em></span></span></p>\n
LOCATION:Bloomfield Hills High School 4200 Andover Rd Bloomfield Hills\, MI 48302
UID:e.1562.51942
SEQUENCE:3
DTSTAMP:20260423T165919Z
URL:https://business.rrc-mi.com/events/details/oakland-youth-orchestras-spring-concert-04-30-2026-51942
END:VEVENT

END:VCALENDAR
