BEGIN:VCALENDAR
VERSION:2.0
PRODID:-//ChamberMaster//Event Calendar 2.0//EN
METHOD:PUBLISH
X-PUBLISHED-TTL:P3D
REFRESH-INTERVAL:P3D
CALSCALE:GREGORIAN
BEGIN:VEVENT
DTSTART:20260606T120000Z
DTEND:20260606T150000Z
X-MICROSOFT-CDO-ALLDAYEVENT:FALSE
SUMMARY:OPC 19th Annual 5k Run/Walk for Meals on Wheels
DESCRIPTION:Kickstart your June by participating in OPC's 5K Run/Walk for Meals on Wheels\, a family-friendly event for a great cause. Whether you're running for a personal best or simply enjoying a fun walk with friends\, this event is sure to energize your weekend! Spectators are welcome to enjoy a delicious pancake breakfast from 8am-11am for $10 in support of Meals on Wheels.
X-ALT-DESC;FMTTYPE=text/html:<span style="color:#000000\;"><span style="font-size:18px\;"><span style="font-family:tahoma\;">Kickstart your June by participating in OPC&rsquo\;s 5K Run/Walk for Meals on Wheels\, a family-friendly event for a great cause. Whether you&#39\;re running for a personal best or simply enjoying a fun walk with friends\, this event is sure to energize your weekend! Spectators are welcome to enjoy a delicious pancake breakfast from 8am-11am for $10 in support of Meals on Wheels.</span></span></span>
LOCATION:650 Letica Dr\, Rochester\, MI
UID:e.1562.60761
SEQUENCE:3
DTSTAMP:20260425T035058Z
URL:https://business.rrc-mi.com/events/details/opc-19th-annual-5k-run-walk-for-meals-on-wheels-60761
END:VEVENT

END:VCALENDAR
