BEGIN:VCALENDAR
VERSION:2.0
PRODID:-//ChamberMaster//Event Calendar 2.0//EN
METHOD:PUBLISH
X-PUBLISHED-TTL:P3D
REFRESH-INTERVAL:P3D
CALSCALE:GREGORIAN
BEGIN:VEVENT
DTSTART:20260313T140000Z
DTEND:20260313T150000Z
X-MICROSOFT-CDO-ALLDAYEVENT:FALSE
SUMMARY:Ribbon Cutting for Busch's Fresh Food Market Grand Reopening
DESCRIPTION:Join us as we celebrate the Ribbon Cutting for Busch's Fresh Food Market Grand Reopening of Rochester Hills Store. \n\n\n\nPlease join the Chamber as we celebrate Busch's Fresh Food Market Grand Reopening of Rochester Hills Store. Renovation adds new Starbucks Cafe\, new deli cases with extensive grab-and-go meals\, chef-prepared in-store sushi and more. \n\n\n\nBusch's Fresh Food Market is located at 3188 Walton Blvd\, Rochester Hills\, MI 48309.\n\n\n\nLearn more about Busch's Fresh Food Market HERE.\n\n\n\nView their Press Release!
X-ALT-DESC;FMTTYPE=text/html:<span style="color: rgb(68\, 68\, 68)\; font-family: tahoma\; font-size: 18px\; font-weight: 700\;">Join us as we celebrate the Ribbon Cutting for Busch&#39\;s Fresh Food Market Grand Reopening of Rochester Hills Store.&nbsp\;<br />\n<br />\nPlease join the Chamber as we celebrate Busch&#39\;s Fresh Food Market Grand Reopening of Rochester Hills Store. Renovation adds new Starbucks Cafe\, new deli cases with extensive grab-and-go meals\, chef-prepared in-store sushi and more.&nbsp\;</span><br style="box-sizing: border-box\; color: rgb(68\, 68\, 68)\; font-family: tahoma\; font-size: 18px\; font-weight: 700\;" />\n<br style="box-sizing: border-box\; color: rgb(68\, 68\, 68)\; font-family: tahoma\; font-size: 18px\; font-weight: 700\;" />\n<span style="color: rgb(68\, 68\, 68)\; font-family: tahoma\; font-size: 18px\; font-weight: 700\;">Busch&#39\;s Fresh Food Market is located at 3188 Walton Blvd\, Rochester Hills\, MI 48309.</span><br style="box-sizing: border-box\; color: rgb(68\, 68\, 68)\; font-family: tahoma\; font-size: 18px\; font-weight: 700\;" />\n<br style="box-sizing: border-box\; color: rgb(68\, 68\, 68)\; font-family: tahoma\; font-size: 18px\; font-weight: 700\;" />\n<span style="color: rgb(68\, 68\, 68)\; font-family: tahoma\; font-size: 18px\; font-weight: 700\;">Learn more about Busch&#39\;s Fresh Food Market&nbsp\;</span><span style="box-sizing: border-box\; font-weight: bolder\; color: rgb(68\, 68\, 68)\; font-family: tahoma\; font-size: 18px\;"><a href="https://www.buschs.com/" style="box-sizing: border-box\; background-color: transparent\; color: rgb(80\, 48\, 88)\; text-decoration-line: none\; overflow-wrap: break-word\;"><span style="box-sizing: border-box\; color: rgb(0\, 0\, 255)\;">HERE</span></a></span><span style="color: rgb(68\, 68\, 68)\; font-family: tahoma\; font-size: 18px\; font-weight: 700\;">.</span><br />\n<br />\n<span style="font-family: tahoma\; font-size: 18px\; font-weight: 700\;"><a href="https://business.rrc-mi.com/news/details/busch-s-fresh-food-market-grand-reopening"><span style="color:#0000CD\;">View their Press Release!&nbsp\;</span></a></span>
LOCATION:
UID:e.1562.51833
SEQUENCE:3
DTSTAMP:20260419T133813Z
URL:https://business.rrc-mi.com/events/details/ribbon-cutting-for-busch-s-fresh-food-market-grand-reopening-51833
END:VEVENT

END:VCALENDAR
