BEGIN:VCALENDAR
VERSION:2.0
PRODID:-//ChamberMaster//Event Calendar 2.0//EN
METHOD:PUBLISH
X-PUBLISHED-TTL:P3D
REFRESH-INTERVAL:P3D
CALSCALE:GREGORIAN
BEGIN:VEVENT
DTSTART:20260516T170000Z
DTEND:20260516T190000Z
X-MICROSOFT-CDO-ALLDAYEVENT:FALSE
SUMMARY:Rochester Grangers Vintage Base Ball Matches
DESCRIPTION:The Rochester Grangers existed as a base ball club as early as 1871. Vintage base ball is played representing a time period when gentlemen played for leisure and not for competition. You will not see any spitting\, sliding\, or wagering at these matches! Home matches are played at the Museum and guests should bring their own chairs or blankets\, cool drinks\, and sun protection.\n\n \n\nThe Rochester Hills Museum is located at 1005 Van Hoosen Road\, off Tienken Road between Rochester and Dequindre Roads.\n\n\n\nVisit the Rochester Grangers Facebook page for their complete schedule of matches. Always verify the date and time as match day approaches\, as this schedule is subject to change. https://www.facebook.com/RochesterGrangers/
X-ALT-DESC;FMTTYPE=text/html:<p class="x_gmail-Default" style="font-family: &quot\;Segoe UI&quot\;\, &quot\;Segoe UI Web (West European)&quot\;\, -apple-system\, BlinkMacSystemFont\, Roboto\, &quot\;Helvetica Neue&quot\;\, sans-serif\; font-size: 15px\; margin: 0in\; color: black\;"><span style="font-size: 18px\;"><span style="font-family: tahoma\;">The Rochester Grangers existed as a base ball club as early as 1871. Vintage base ball is played representing a time period when gentlemen played for leisure and not for competition. You will not see any spitting\, sliding\, or wagering at these matches! Home matches are played at the Museum and guests should bring their own chairs or blankets\, cool drinks\, and sun protection.</span></span></p>\n\n<p class="x_gmail-Default" style="font-family: &quot\;Segoe UI&quot\;\, &quot\;Segoe UI Web (West European)&quot\;\, -apple-system\, BlinkMacSystemFont\, Roboto\, &quot\;Helvetica Neue&quot\;\, sans-serif\; font-size: 15px\; margin: 0in\; color: black\;"><span style="font-size: 18px\;"><span style="font-family: tahoma\;">&nbsp\;</span></span></p>\n\n<p class="x_gmail-MsoNoSpacing" style="font-family: &quot\;Segoe UI&quot\;\, &quot\;Segoe UI Web (West European)&quot\;\, -apple-system\, BlinkMacSystemFont\, Roboto\, &quot\;Helvetica Neue&quot\;\, sans-serif\; font-size: 15px\; margin: 0in\; color: black\;"><span style="font-size: 18px\;"><span style="font-family: tahoma\;">The Rochester Hills Museum is located at 1005 Van Hoosen Road\, off Tienken Road between Rochester and Dequindre Roads.</span></span><br />\n<br />\n<span style="font-family: tahoma\; font-size: 18px\;">Visit the Rochester Grangers Facebook page for their complete schedule of matches. Always verify the date and time as match day approaches\, as this schedule is subject to change.&nbsp\;</span><span style="font-family: tahoma\; font-size: 18px\;"><a href="https://www.facebook.com/RochesterGrangers/"><span style="color: rgb(0\, 0\, 205)\;">https://www.facebook.com/RochesterGrangers/</span></a></span></p>\n
LOCATION:Rochester Hills Museum at Van Hoosen Farm\, 1005 Van Hoosen Rd.
UID:e.1562.51902
SEQUENCE:3
DTSTAMP:20260420T123045Z
URL:https://business.rrc-mi.com/events/details/rochester-grangers-vintage-base-ball-matches-51902
END:VEVENT

END:VCALENDAR
