BEGIN:VCALENDAR
VERSION:2.0
PRODID:-//ChamberMaster//Event Calendar 2.0//EN
METHOD:PUBLISH
X-PUBLISHED-TTL:P3D
REFRESH-INTERVAL:P3D
CALSCALE:GREGORIAN
BEGIN:VEVENT
DTSTART:20200527T160500Z
DTEND:20200527T170000Z
X-MICROSOFT-CDO-ALLDAYEVENT:FALSE
SUMMARY:RRC Weekly Member UPdate Conference Call
DESCRIPTION:Join us for the Chamber's Weekly Member Conference Call.  This call will feature Dr. Brian Stogner of Rochester University along with updates from elected officials at the Federal\, State\, and Local levels. This call is sponsored by Rochester University.
X-ALT-DESC;FMTTYPE=text/html:<span style="color: rgb(51\, 51\, 51)\; font-family: sans-serif\, Arial\, Verdana\, &quot\;Trebuchet MS&quot\;\; font-size: 18px\;">Join us for the Chamber&#39\;s Weekly Member Conference Call.&nbsp\; This call will feature Dr. Brian Stogner of Rochester University along with updates from elected officials at the Federal\, State\, and Local levels. This call is sponsored by Rochester University.</span>
LOCATION:ZOOM information will be sent via email after registration is completed
UID:e.1562.29993
SEQUENCE:3
DTSTAMP:20260419T115909Z
URL:https://business.rrc-mi.com/events/details/rrc-weekly-member-update-conference-call-05-27-2020-29993
END:VEVENT

END:VCALENDAR
