BEGIN:VCALENDAR
VERSION:2.0
PRODID:-//ChamberMaster//Event Calendar 2.0//EN
METHOD:PUBLISH
X-PUBLISHED-TTL:P3D
REFRESH-INTERVAL:P3D
CALSCALE:GREGORIAN
BEGIN:VEVENT
DTSTART:20260501T220000Z
DTEND:20260502T020000Z
X-MICROSOFT-CDO-ALLDAYEVENT:FALSE
SUMMARY:Seeds of Hope Gala
DESCRIPTION:Please Join Us for HAVEN's Annual Gala\n\n \nAn evening that honors our shared commitment to supporting survivors of sexual assault and intimate partner violence with care\, compassion\, and comprehensive services.\n\n \n\nThe annual HAVEN Gala draws a dedicated and diverse audience of community and corporate leaders\, advocates\, and survivors. Both meaningful and memorable\, the evening raises awareness and critical funding to support the more than 30\,000 free services HAVEN provides each year.\n\n\n\nTHE EVENING FEATURES:\n\nCocktail Hour   Gourmet Seated Dinner   Live Music & Dancing   Auction\n\nStories of Hope & Resilience   "Golden Heart" Award Presentations   Afterglow Party\n\n \n\nIf you are unable to attend or would like another meaningful way to participate\, we are also offering ad space in our Gala program book.
X-ALT-DESC;FMTTYPE=text/html:<span style="font-size:18px"><span style="font-family:tahoma">Please Join Us for HAVEN&rsquo\;s Annual Gala</span></span><br />\n&nbsp\;\n<div><span style="font-size:18px"><span style="font-family:tahoma">An evening that honors our shared commitment to supporting survivors of sexual assault and intimate partner violence with care\, compassion\, and comprehensive services.</span></span></div>\n\n<div>&nbsp\;</div>\n\n<div><span style="font-size:18px"><span style="font-family:tahoma">The annual HAVEN Gala draws a dedicated and diverse audience of community and corporate leaders\, advocates\, and survivors. Both meaningful and memorable\, the evening raises awareness and critical funding to support the more than 30\,000 free services HAVEN provides each year.</span></span><br />\n<br />\n<span style="font-family:tahoma\; font-size:18px">THE EVENING FEATURES:</span><br />\n<span style="font-family:tahoma\; font-size:18px">Cocktail Hour &bull\; Gourmet Seated Dinner &bull\; Live Music &amp\; Dancing &bull\; Auction</span><br />\n<span style="font-family:tahoma\; font-size:18px">Stories of Hope &amp\; Resilience &bull\; &ldquo\;Golden Heart&rdquo\; Award Presentations &bull\; Afterglow Party</span></div>\n\n<div>&nbsp\;</div>\n\n<div><span style="font-size:18px"><span style="font-family:tahoma">If you are unable to attend or would like another meaningful way to participate\, we are also offering ad space in our Gala program book.</span></span></div>\n<br />\n<br />\n&nbsp\;
LOCATION:AUBURN HILLS MARRIOTT PONTIAC\, PONTIAC\, M I
UID:e.1562.51814
SEQUENCE:3
DTSTAMP:20260423T171917Z
URL:https://business.rrc-mi.com/events/details/seeds-of-hope-gala-51814
END:VEVENT

END:VCALENDAR
