BEGIN:VCALENDAR
VERSION:2.0
PRODID:-//ChamberMaster//Event Calendar 2.0//EN
METHOD:PUBLISH
X-PUBLISHED-TTL:P3D
REFRESH-INTERVAL:P3D
CALSCALE:GREGORIAN
BEGIN:VEVENT
DTSTART:20260519T220000Z
DTEND:20260520T000000Z
X-MICROSOFT-CDO-ALLDAYEVENT:FALSE
SUMMARY:Spectacular Sushi
DESCRIPTION:Have you ever wanted to make sushi at home but felt intimidated by it? Let's get together and learn some sushi techniques! From mastering sticky rice\, to rolling perfect rolls\, you'll come out knowing how to make this delicious dinner yourself!\n\nFor health and safety reasons\, we will not be using raw fish in our recipes. We will discuss some safe practices for purchasing and consuming raw fish.
X-ALT-DESC;FMTTYPE=text/html:<p><span style="font-size:18px"><span style="font-family:tahoma">Have you ever wanted to make sushi at home but felt intimidated by it? Let&#39\;s get together and learn some sushi techniques! From mastering sticky rice\, to rolling perfect rolls\, you&#39\;ll come out knowing how to make this delicious dinner yourself!</span></span></p>\n\n<p><span style="font-size:18px"><span style="font-family:tahoma">For health and safety reasons\, we will not be using raw fish in our recipes. We will discuss some safe practices for purchasing and consuming raw fish.</span></span></p>\n
LOCATION:812 N Main St\, Rochester MI
UID:e.1562.51939
SEQUENCE:3
DTSTAMP:20260420T123039Z
URL:https://business.rrc-mi.com/events/details/spectacular-sushi-05-19-2026-51939
END:VEVENT

END:VCALENDAR
