BEGIN:VCALENDAR
VERSION:2.0
PRODID:-//ChamberMaster//Event Calendar 2.0//EN
METHOD:PUBLISH
X-PUBLISHED-TTL:P3D
REFRESH-INTERVAL:P3D
CALSCALE:GREGORIAN
BEGIN:VEVENT
DTSTART:20260519T140000Z
DTEND:20260519T150000Z
X-MICROSOFT-CDO-ALLDAYEVENT:FALSE
SUMMARY:Tea in the Farmhouse - Everyday Ads\, Story of Rochester's Promotional Good
DESCRIPTION:We're opening the doors of the Van Hoosen Farmhouse to host an informal afternoon hour. Guests get the chance to interact with artifacts and documents normally stored safely away in the collections room\, while enjoying the ambiance of the 1840s Van Hoosen Farmhouse. \n\n\n\n\n\nThis unique opportunity is limited to 12 people.  Tea and light snacks will be served.
X-ALT-DESC;FMTTYPE=text/html:<span style="font-size:18px\;"><span style="font-family:tahoma\;">We&rsquo\;re opening the doors of the Van Hoosen Farmhouse to host an informal afternoon hour. Guests get the chance to interact with artifacts and documents normally stored safely away in the collections room\, while enjoying the ambiance of the 1840s Van Hoosen Farmhouse.&nbsp\;<br />\n<br />\n<br />\nThis unique opportunity is limited to 12 people.&nbsp\; Tea and light snacks will be served.</span></span>
LOCATION:Rochester Hills Museum at Van Hoosen Farm 1005 Van Hoosen Road
UID:e.1562.51906
SEQUENCE:3
DTSTAMP:20260420T123821Z
URL:https://business.rrc-mi.com/events/details/tea-in-the-farmhouse-everyday-ads-story-of-rochester-s-promotional-good-51906
END:VEVENT

END:VCALENDAR
