BEGIN:VCALENDAR
VERSION:2.0
PRODID:-//ChamberMaster//Event Calendar 2.0//EN
METHOD:PUBLISH
X-PUBLISHED-TTL:P3D
REFRESH-INTERVAL:P3D
CALSCALE:GREGORIAN
BEGIN:VEVENT
DTSTART:20260505T160000Z
DTEND:20260505T163000Z
X-MICROSOFT-CDO-ALLDAYEVENT:FALSE
SUMMARY:The Ripple Effect of Kindness Webinar
DESCRIPTION:Join us on Tuesday\, May 5th at 12:00 pm as Blue Cross Blue Shield of Michigan's Virtual Well-Being hosts\, Cindy and Marissa discuss how simple acts of kindness can have a ripple effect on you\, your friends\, family and community. They'll also dive into science behind rewiring your brain to make choosing kindness your default.\n\n\n\nSign up today to make sure you don't miss it!\n\n\nhttps://bit.ly/Ripple-Effect-of-Kindness
X-ALT-DESC;FMTTYPE=text/html:<div><span style="font-size:18px\;"><span style="font-family:tahoma\;">Join us on Tuesday\, May 5th at 12:00 pm as Blue Cross Blue Shield of Michigan&#39\;s Virtual Well-Being hosts\, Cindy and Marissa discuss how simple acts of kindness can have a ripple effect on you\, your friends\, family and community. They&#39\;ll also dive into science behind rewiring your brain to make choosing kindness your default.<br />\n<br />\nSign up today to make sure you don&#39\;t miss it!</span></span></div>\n\n<div>\n<div><strong><span style="font-size:18px\;"><span style="font-family:tahoma\;"><a class="x_sc-jXbUNg x_ImOYx x_sc-dLMFU x_eyiwQS x_OWAAutoLink" href="https://nam10.safelinks.protection.outlook.com/?url=https%3A%2F%2Fbit.ly%2FRipple-Effect-of-Kindness&amp\;data=05%7C02%7Cscrocker%40eastersealsmorc.org%7C12f5eb937acc490df7f908de9bd7c735%7C8b5371af8ed24ed6a95a515d97d9364b%7C0%7C0%7C639119548257211259%7CUnknown%7CTWFpbGZsb3d8eyJFbXB0eU1hcGkiOnRydWUsIlYiOiIwLjAuMDAwMCIsIlAiOiJXaW4zMiIsIkFOIjoiTWFpbCIsIldUIjoyfQ%3D%3D%7C0%7C%7C%7C&amp\;sdata=IGJoQKmGqq4ol69Wl8s3ATPS50H9J3RRNI%2F1s0Aq4HU%3D&amp\;reserved=0" id="OWA51227dd6-7507-5071-de99-685d49968186" rel="noopener noreferrer" style="border: 0px\; font: inherit\; margin: 0px\; padding: 0px\; vertical-align: baseline\; color: rgb(17\, 80\, 170)\;" target="_blank" title="Original URL: https://bit.ly/Ripple-Effect-of-Kindness. Click or tap if you trust this link."><span style="color:#0000FF\;"><u>https://bit.ly/Ripple-Effect-of-Kindness</u></span></a></span></span></strong></div>\n</div>\n\n<div>&nbsp\;</div>\n
LOCATION:Webinar https://bit.ly/Ripple-Effect-of-Kindness
UID:e.1562.51940
SEQUENCE:3
DTSTAMP:20260420T122259Z
URL:https://business.rrc-mi.com/events/details/the-ripple-effect-of-kindness-webinar-51940
END:VEVENT

END:VCALENDAR
