BEGIN:VCALENDAR
VERSION:2.0
PRODID:-//ChamberMaster//Event Calendar 2.0//EN
METHOD:PUBLISH
X-PUBLISHED-TTL:P3D
REFRESH-INTERVAL:P3D
CALSCALE:GREGORIAN
BEGIN:VEVENT
DTSTART:20260425T220000Z
DTEND:20260426T013000Z
X-MICROSOFT-CDO-ALLDAYEVENT:FALSE
SUMMARY:Wine\, Wit & Wisdom
DESCRIPTION:The 11th annual Wine\, Wit\, & Wisdom is a great evening out filled with entertainment\, a delicious buffet dinner\, live music\, an open bar with wine\, beer\, and soft drinks\, a silent auction\, a 50-50 raffle\, and six insightful lectures sure to spark discussion. This year's exciting line-up includes:\n\n\n\nPaul Vachon\, writer and expert on Detroit history\, details significant historical Detroit events that may have been forgotten\n\n\n\nJennifer Gebbie\, author and avid traveler\, talks about her most challenging and rewarding experience\, climbing Mt. Kilimanjaro\n\n\n\nJack Teetor\, veteran Hollywood executive and producer\, shares the inspirational story of Ralph Teetor\, who overcame adversity to become one of America's greatest automotive pioneers\n\n\n\nStephanie Grabowski\, a Forensic Scientist with the Michigan State Police\, provides expertise on how forensics is used in a variety of investigations\, from public health concerns to solving cases\n\n\n\nDan Arnold\, Provost Fellow for Artificial Intelligence and Director of Support & Innovation at Oakland University\, gives an overview of AI and explores the positives and negatives of using the technology\n\n\n\nWendy Evans\, a teaching volunteer from the Detroit Institute of Arts\, leads a close examination of the impact of art photography by leading women artists in the 19th and 20th centuries.\n\n\n\nWine\, Wit & Wisdom is a major fundraising event organized by the Friends of RHPL. All funds raised benefit the library and support programming\, collections\, and services. The theme for the evening is black and white\, so dress to impress with your favorite ensemble!
X-ALT-DESC;FMTTYPE=text/html:<p dir="ltr" style="color: rgb(0\, 0\, 0)\; font-family: &quot\;Segoe UI&quot\;\, &quot\;Segoe UI Web (West European)&quot\;\, -apple-system\, BlinkMacSystemFont\, Roboto\, &quot\;Helvetica Neue&quot\;\, sans-serif\; font-size: 15px\; margin-top: 0px\; margin-bottom: 8pt\; line-height: 1.39\;"><span style="font-size:18px\;"><span style="font-family:tahoma\;"><span data-ogsc="black" data-olk-copy-source="MessageBody" style="border: 0px\; font-style: inherit\; font-variant-ligatures: inherit\; font-variant-caps: inherit\; font-variant-numeric: normal\; font-variant-east-asian: normal\; font-variant-alternates: normal\; font-variant-position: inherit\; font-variant-emoji: inherit\; font-weight: inherit\; font-stretch: inherit\; line-height: inherit\; font-optical-sizing: inherit\; font-size-adjust: inherit\; font-kerning: inherit\; font-feature-settings: inherit\; font-variation-settings: inherit\; font-language-override: inherit\; margin: 0px\; padding: 0px\; vertical-align: baseline\; background-color: transparent !important\;">The 11th&nbsp\;annual Wine\, Wit\, &amp\; Wisdom is a great evening out filled with entertainment\, a delicious buffet dinner\, live music\, an open bar with wine\, beer\, and soft drinks\, a silent auction\, a 50-50 raffle\, and six insightful lectures sure to spark discussion. This year&rsquo\;s exciting line-up includes:<br />\n<br />\nPaul Vachon\, writer and expert on Detroit history\, details significant historical Detroit events that may have been forgotten<br />\n<br />\nJennifer Gebbie\, author and avid traveler\, talks about her most challenging and rewarding experience\, climbing Mt. Kilimanjaro<br />\n<br />\nJack Teetor\, veteran Hollywood executive and producer\, shares the inspirational story of Ralph Teetor\, who overcame adversity to become one of America&rsquo\;s greatest automotive pioneers<br />\n<br />\nStephanie Grabowski\, a Forensic Scientist with the Michigan State Police\, provides&nbsp\;expertise on how forensics is used in a variety of investigations\, from public health concerns to solving cases<br />\n<br />\nDan Arnold\, Provost Fellow for Artificial Intelligence and Director of Support &amp\; Innovation at Oakland University\, gives an overview of AI and explores the positives and negatives of using the technology<br />\n<br />\nWendy Evans\, a teaching volunteer from the Detroit Institute of Arts\, leads a close examination of the impact of art photography by leading women artists in the 19th and 20th centuries.<br />\n<br />\nWine\, Wit &amp\; Wisdom is a major fundraising event organized by the Friends of RHPL. All funds raised benefit the library and support programming\, collections\, and services. The theme for the evening is black and white\, so dress to impress with your favorite ensemble!</span></span></span></p>\n
LOCATION:Rochester Hills Public Library 500 Olde Towne Rd Rochester 48307
UID:e.1562.51827
SEQUENCE:3
DTSTAMP:20260420T123928Z
URL:https://business.rrc-mi.com/events/details/wine-wit-wisdom-51827
END:VEVENT

END:VCALENDAR
